BEGIN:VCALENDAR
VERSION:2.0
PRODID:-//CCA - ECPv6.15.18//NONSGML v1.0//EN
CALSCALE:GREGORIAN
METHOD:PUBLISH
X-ORIGINAL-URL:https://complianceassociation.hr
X-WR-CALDESC:Događaji za CCA
REFRESH-INTERVAL;VALUE=DURATION:PT1H
X-Robots-Tag:noindex
X-PUBLISHED-TTL:PT1H
BEGIN:VTIMEZONE
TZID:UTC
BEGIN:STANDARD
TZOFFSETFROM:+0000
TZOFFSETTO:+0000
TZNAME:UTC
DTSTART:20240101T000000
END:STANDARD
END:VTIMEZONE
BEGIN:VEVENT
DTSTART;TZID=UTC:20250515T150000
DTEND;TZID=UTC:20250515T160000
DTSTAMP:20260422T163323
CREATED:20250424T151926Z
LAST-MODIFIED:20250425T094906Z
UID:3801-1747321200-1747324800@complianceassociation.hr
SUMMARY:Poziv na webinar: Zakon o zaštiti osobnih podataka u BiH – praktična primjena
DESCRIPTION:Pozivamo vas da sudjelujete u webinaru „Zakon o zaštiti osobnih podataka u BiH – praktična primjena“\, koji će se održati 15. svibnja 2025. u trajanju od 45 minuta. \nKako brojne tvrtke iz Hrvatske imaju obradu osobnih podataka u Bosni i Hercegovini\, i time potpadaju pod primjenu tamošnjeg Zakona o zaštiti osobnih podataka\, vjerujemo da će vam ovaj webinar biti od velike koristi. Fokus će biti na konkretnim obvezama\, rizicima i preporukama za usklađivanje u praksi. \n📅 Datum: 15. svibnja 2025.🕒 Vrijeme: 15:00 – 16:00🔗 Prijava: Zakon o zaštiti osobnih podataka u BiH – praktična primjena | Microsoft Teams | Pridruživanje brzom sastanku \n🔹 Predavačica: Matea Marić\, Compliance and Ethics Specialist\, m.maric.compliance@gmail.com \nMatea Marić je stručnjakinja s bogatim iskustvom u području usklađenosti i etike\, s posebnim fokusom na regulative u jugoistočnoj Europi. U svom radu savjetuje tvrtke kako uspješno implementirati zahtjeve zakonodavstva o zaštiti podataka u svakodnevne procese. \nOsigurajte svoje mjesto na vrijeme – vidimo se online!
URL:https://complianceassociation.hr/event/poziv-na-webinar-zakon-o-zastiti-osobnih-podataka-u-bih-prakticna-primjena/
CATEGORIES:Compliance,GDPR
ATTACH;FMTTYPE=image/png:https://complianceassociation.hr/wp-content/uploads/2025/04/ChatGPT-Image-Apr-24-2025-05_18_10-PM_2.png
END:VEVENT
BEGIN:VEVENT
DTSTART;TZID=UTC:20250522T150000
DTEND;TZID=UTC:20250522T160000
DTSTAMP:20260422T163323
CREATED:20250519T095150Z
LAST-MODIFIED:20250519T095304Z
UID:3848-1747926000-1747929600@complianceassociation.hr
SUMMARY:Webinar: Predstavljanje Risk Analytics Compliance Intelligence rješenja
DESCRIPTION:Pridružite nam se na ekskluzivnom webinaru i saznajte kako D&B Risk Analytics Compliance Intelligence može unaprijediti vaše procese upravljanja rizicima i usklađenosti! \n  \nD&B Risk Analytics Compliance Intelligence je napredno\, cloud-bazirano rješenje koje omogućuje kontinuirani KYC/KYB monitoring\, automatiziranu procjenu rizika te brže i učinkovitije donošenje odluka u skladu s najnovijim regulatornim zahtjevima. Rješenje koristi Dun & Bradstreet Data Cloud i napredne AI alate za: \n  \n\nAutomatsko prepoznavanje i verifikaciju poslovnih partnera\nKontinuirano praćenje promjena rizika u portfelju\nScreening prema sankcijskim listama\, PEP-ovima i negativnim medijima\nESG i cyber risk procjene kao dodatne module\nDetaljno izvještavanje i prilagodljive alarme za pravovremenu reakciju\n\n  \nWebinar je namijenjen compliance stručnjacima\, risk managerima i svima koji žele unaprijediti obranu od regulatornih i poslovnih rizika kroz modernu\, automatiziranu platformu. \n  \nRezervirajte svoje mjesto i otkrijte kako digitalizirati i ubrzati procese usklađenosti! \n  \n📅 Datum: 22.05.2025\n⏰ Vrijeme: 15:00-16:00\n📍 Lokacija: Online (link Join the meeting now ) \n  \nMeeting ID: 254 899 832 371 8 \nPasscode: gV6Fq3Fh \n  \nPrijavite se putem poruke ili komentara ispod objave! Vidimo se na webinaru!
URL:https://complianceassociation.hr/event/webinar-predstavljanje-risk-analytics-compliance-intelligence-rjesenja/
CATEGORIES:Compliance,KYC/ KYB
ATTACH;FMTTYPE=image/jpeg:https://complianceassociation.hr/wp-content/uploads/2025/05/Pages-from-DnB_Risk-Analytics-Compliance-Intelligence_Brochure_Europe_CEE_2024-4.jpg
END:VEVENT
END:VCALENDAR