BEGIN:VCALENDAR
VERSION:2.0
PRODID:-//CCA - ECPv6.15.18//NONSGML v1.0//EN
CALSCALE:GREGORIAN
METHOD:PUBLISH
X-WR-CALNAME:CCA
X-ORIGINAL-URL:https://complianceassociation.hr
X-WR-CALDESC:Događaji za CCA
REFRESH-INTERVAL;VALUE=DURATION:PT1H
X-Robots-Tag:noindex
X-PUBLISHED-TTL:PT1H
BEGIN:VTIMEZONE
TZID:Europe/Zagreb
BEGIN:DAYLIGHT
TZOFFSETFROM:+0100
TZOFFSETTO:+0200
TZNAME:CEST
DTSTART:20240331T010000
END:DAYLIGHT
BEGIN:STANDARD
TZOFFSETFROM:+0200
TZOFFSETTO:+0100
TZNAME:CET
DTSTART:20241027T010000
END:STANDARD
BEGIN:DAYLIGHT
TZOFFSETFROM:+0100
TZOFFSETTO:+0200
TZNAME:CEST
DTSTART:20250330T010000
END:DAYLIGHT
BEGIN:STANDARD
TZOFFSETFROM:+0200
TZOFFSETTO:+0100
TZNAME:CET
DTSTART:20251026T010000
END:STANDARD
BEGIN:DAYLIGHT
TZOFFSETFROM:+0100
TZOFFSETTO:+0200
TZNAME:CEST
DTSTART:20260329T010000
END:DAYLIGHT
BEGIN:STANDARD
TZOFFSETFROM:+0200
TZOFFSETTO:+0100
TZNAME:CET
DTSTART:20261025T010000
END:STANDARD
END:VTIMEZONE
BEGIN:VEVENT
DTSTART;TZID=Europe/Zagreb:20250410T150000
DTEND;TZID=Europe/Zagreb:20250410T160000
DTSTAMP:20260422T191512
CREATED:20250406T214612Z
LAST-MODIFIED:20250406T215605Z
UID:3786-1744297200-1744300800@complianceassociation.hr
SUMMARY:Kako raditi s teškim ljudima (2. dio): Ruku pod ruku s emocionalnom inteligencijom (EI)
DESCRIPTION:Ekskluzivno za Compliance profesionalce! \nDrugo predavanje u nizu na temu: “Kako raditi s teškim ljudima: Ruku pod ruku s emocionalnom inteligencijom“ \nUloga Compliance profesionalaca često uključuje rad u složenim poslovnim okruženjima i interesnim područjima te komunikaciju s ljudima različitih stilova i osobnosti. U takvim okolnostima neminovno se susrećemo sa zahtjevnim sugovornicima i izazovnim situacijama\, no unatoč tome moramo zadržati profesionalnost i postići konstruktivan dijalog. \nMeđutim\, što ako neugodan razgovor i odnos shvatimo osobno? Što ako nasu teškom razgovoru preplave emocije i kažemo ili napravimo nešto zbog čega bismo kasnije požalili? \nBudući da emocije oblikuju način na koji doživljavamo svijet\, komuniciramo i donosimo odluke\, jedna od najvažnijih vještina uspješnog Compliance profesionalca je emocionalna inteligencija – sposobnost prepoznavanja\, razumijevanja i upravljanja vlastitim emocijama te učinkovitog nošenja s emocijama drugih. \nDobra vijest je da se emocionalna inteligencija može razvijati i dalje graditi. Razvijanjem svijesti o sebi i svoje motivacije te prepoznavanjem i razumijevem tuđih emocija gradimo otpornost na stres dobru komunikaciju i kvalitetne odnose –u profesionalnom i u privatnom životu. \nNa ovom webinaru naučit ćete kako uz emocionalnu pismenost prepoznati i upravljati emocijama\, razumjeti njihove poruke i pretvoriti izazovne interakcije u dobru suradnju. \nPridružite nam se i saznajte:\n✔ Što su emocije\, odakle dolaze i što nam govore\n✔ Kako ih koristiti za bolje razumijevanje i suradnju\n✔ Konkretne tehnike za regulaciju emocija u izazovnim situacijama\n✔ Prikaz slučaja – primjena u praksi \nNe propustite priliku unaprijediti svoje vještine i poboljšati rad s teškim ljudima!\n📅 Datum: 10.4.2025\n🕘 Vrijeme: 15 sati\n📍 Online: https://us06web.zoom.us/j/89326135036?pwd=6GHQnhPcWDOIx8yXkVgrSmZb8dDLii.1 \nMeeting ID: 893 2613 5036 \nPasscode: 005837 \nTatjana Mršić @ Semper Integra vas poziva na Zoom meeting!
URL:https://complianceassociation.hr/event/kako-raditi-s-teskim-ljudima-2-dio-ruku-pod-ruku-s-emocionalnom-inteligencijom-ei/
CATEGORIES:Compliance
END:VEVENT
END:VCALENDAR